BEGIN:VCALENDAR
VERSION:2.0
PRODID:-//Brisbane Mar Thoma Church - ECPv4.3.4.2//NONSGML v1.0//EN
CALSCALE:GREGORIAN
METHOD:PUBLISH
X-WR-CALNAME:Brisbane Mar Thoma Church
X-ORIGINAL-URL:https://www.brisbanemarthomachurch.org.au
X-WR-CALDESC:Events for Brisbane Mar Thoma Church
BEGIN:VEVENT
DTSTART;TZID=UTC+0:20260402T190000
DTEND;TZID=UTC+0:20260402T210000
DTSTAMP:20260423T124047
CREATED:20170403T051955Z
LAST-MODIFIED:20260207T101208Z
UID:8419-1775156400-1775163600@www.brisbanemarthomachurch.org.au
SUMMARY:Maundy Thursday Holy Communion Service
DESCRIPTION:
URL:https://www.brisbanemarthomachurch.org.au/event/maundy-thursday-holy-communion-service/
LOCATION:115 Cornwall St\, Annerley\, Australia
END:VEVENT
BEGIN:VEVENT
DTSTART;TZID=UTC+0:20260403T093000
DTEND;TZID=UTC+0:20260403T133000
DTSTAMP:20260423T124047
CREATED:20170403T051901Z
LAST-MODIFIED:20260207T101234Z
UID:8417-1775208600-1775223000@www.brisbanemarthomachurch.org.au
SUMMARY:Good Friday Service
DESCRIPTION:
URL:https://www.brisbanemarthomachurch.org.au/event/good-friday-service/
LOCATION:115 Cornwall St\, Annerley\, Australia
END:VEVENT
BEGIN:VEVENT
DTSTART;TZID=UTC+0:20260405T100000
DTEND;TZID=UTC+0:20260405T120000
DTSTAMP:20260423T124047
CREATED:20160620T113838Z
LAST-MODIFIED:20260207T101252Z
UID:8009-1775383200-1775390400@www.brisbanemarthomachurch.org.au
SUMMARY:Easter Sunday
DESCRIPTION:
URL:https://www.brisbanemarthomachurch.org.au/event/holy-communion-service-english-2/
END:VEVENT
BEGIN:VEVENT
DTSTART;TZID=UTC+0:20260412T100000
DTEND;TZID=UTC+0:20260412T130000
DTSTAMP:20260423T124047
CREATED:20260411T070609Z
LAST-MODIFIED:20260411T070757Z
UID:9195-1775988000-1775998800@www.brisbanemarthomachurch.org.au
SUMMARY:Parish Day 2026 - ( One Day Income Collection and Memento for Grade 12 Graduate students)
DESCRIPTION:It is with great joy that we inform you that the Parish Day of Brisbane Mar Thoma Church will be celebrated on 12 April 2026. We take this opportunity to thank each and every member of the parish for your continued support.\n\nOn this special day\, there will be a One Day Income Collection\, and we kindly request all parishioners to prayerfully participate in this offering service.\n\nAs part of the Parish Day celebration\, our Grade 12 students who completed their studies in December 2025 will be honored with a memento after the Holy Communion Service.\n\n
URL:https://www.brisbanemarthomachurch.org.au/event/parish-day-2026-12th-april-one-day-income-collection-and-memento-for-grade-12-graduate-students/
LOCATION:115 Cornwall St\, Annerley\, Australia
END:VEVENT
END:VCALENDAR