BEGIN:VCALENDAR
VERSION:2.0
PRODID:-//Brisbane Mar Thoma Church - ECPv4.3.4.2//NONSGML v1.0//EN
CALSCALE:GREGORIAN
METHOD:PUBLISH
X-WR-CALNAME:Brisbane Mar Thoma Church
X-ORIGINAL-URL:https://www.brisbanemarthomachurch.org.au
X-WR-CALDESC:Events for Brisbane Mar Thoma Church
BEGIN:VEVENT
DTSTART;TZID=UTC+0:20190924T163000
DTEND;TZID=UTC+0:20190924T183000
DTSTAMP:20260423T185642
CREATED:20190917T233546Z
LAST-MODIFIED:20190917T233546Z
UID:8697-1569342600-1569349800@www.brisbanemarthomachurch.org.au
SUMMARY:Yuvajana Sakhyam Meeting
DESCRIPTION:\n\n\n\n\n\n\n\n\n\nWith immense pleasure\, I would like to inform you all that\, we are greatly honoured by the visit and presence of the President of Mar Thoma Church Yuvajana Sakhyam\, His Grace\, Rt. Rev. Dr. Thomas Mar Theethos Episcopa to Brisbane Mar Thoma Church next week. \n\nHence\, there will be a Yuvajana Sakhyam Meeting on Tuesday\, 24th September 2019 at 04.30 PM at the St. Philips Anglican Church\, followed by the presentation and inauguration of the Year Planner 2019-20 led by Thirumeni.\n\nI kindly request all the Yuvajana Sakhyam members to make it convenient to attend and not miss this opportunity with the Thirumeni despite your busy schedule on weekdays! God Bless.\n\n\n\n\n\n\n\n\n\n\n\n\n\n\n\n\n
URL:https://www.brisbanemarthomachurch.org.au/event/yuvajana-sakhyam-meeting/
LOCATION:115 Cornwall St\, Annerley\, Australia
END:VEVENT
END:VCALENDAR