BEGIN:VCALENDAR
VERSION:2.0
PRODID:-//Brisbane Mar Thoma Church - ECPv4.3.4.2//NONSGML v1.0//EN
CALSCALE:GREGORIAN
METHOD:PUBLISH
X-WR-CALNAME:Brisbane Mar Thoma Church
X-ORIGINAL-URL:https://www.brisbanemarthomachurch.org.au
X-WR-CALDESC:Events for Brisbane Mar Thoma Church
BEGIN:VEVENT
DTSTART;TZID=UTC+0:20170401T100000
DTEND;TZID=UTC+0:20170401T170000
DTSTAMP:20260423T171955
CREATED:20170330T215915Z
LAST-MODIFIED:20170330T215915Z
UID:8413-1491040800-1491066000@www.brisbanemarthomachurch.org.au
SUMMARY:Youth Meeting  - On 1st April 2017 at 10.00 AM at the Church.
DESCRIPTION:Youth Meeting  - On 1st April 2017 at 10.00 AM at the Church.
URL:https://www.brisbanemarthomachurch.org.au/event/youth-meeting-on-1st-april-2017-at-10-00-am-at-the-church/
LOCATION:115 Cornwall St\, Annerley\, Australia
END:VEVENT
END:VCALENDAR