BEGIN:VCALENDAR
VERSION:2.0
PRODID:-//Brisbane Mar Thoma Church - ECPv4.3.4.2//NONSGML v1.0//EN
CALSCALE:GREGORIAN
METHOD:PUBLISH
X-WR-CALNAME:Brisbane Mar Thoma Church
X-ORIGINAL-URL:https://www.brisbanemarthomachurch.org.au
X-WR-CALDESC:Events for Brisbane Mar Thoma Church
BEGIN:VEVENT
DTSTART;TZID=UTC+0:20181130T090000
DTEND;TZID=UTC+0:20181203T170000
DTSTAMP:20260423T235812
CREATED:20181025T043359Z
LAST-MODIFIED:20181025T043359Z
UID:8650-1543568400-1543856400@www.brisbanemarthomachurch.org.au
SUMMARY:Youth Camp
DESCRIPTION:
URL:https://www.brisbanemarthomachurch.org.au/event/youth-camp/
END:VEVENT
END:VCALENDAR