BEGIN:VCALENDAR
VERSION:2.0
PRODID:-//Brisbane Mar Thoma Church - ECPv4.3.4.2//NONSGML v1.0//EN
CALSCALE:GREGORIAN
METHOD:PUBLISH
X-WR-CALNAME:Brisbane Mar Thoma Church
X-ORIGINAL-URL:https://www.brisbanemarthomachurch.org.au
X-WR-CALDESC:Events for Brisbane Mar Thoma Church
BEGIN:VEVENT
DTSTART;TZID=UTC+0:20241231T220000
DTEND;TZID=UTC+0:20250101T003000
DTSTAMP:20260423T215740
CREATED:20161208T103546Z
LAST-MODIFIED:20241015T123942Z
UID:8356-1735682400-1735691400@www.brisbanemarthomachurch.org.au
SUMMARY:Watch Night Holy Communion Service (Malayalam)
DESCRIPTION:
URL:https://www.brisbanemarthomachurch.org.au/event/watch-night-service/
LOCATION:115 Cornwall St\, Annerley\, Australia
END:VEVENT
END:VCALENDAR