BEGIN:VCALENDAR
VERSION:2.0
PRODID:-//Brisbane Mar Thoma Church - ECPv4.3.4.2//NONSGML v1.0//EN
CALSCALE:GREGORIAN
METHOD:PUBLISH
X-WR-CALNAME:Brisbane Mar Thoma Church
X-ORIGINAL-URL:https://www.brisbanemarthomachurch.org.au
X-WR-CALDESC:Events for Brisbane Mar Thoma Church
BEGIN:VEVENT
DTSTART;TZID=UTC+0:20170305T094500
DTEND;TZID=UTC+0:20170305T120000
DTSTAMP:20190228T211901
CREATED:20170207T001640Z
LAST-MODIFIED:20170207T001640Z
UID:8397-1488707100-1488715200@www.brisbanemarthomachurch.org.au
SUMMARY:Visit of Rt. Rev. Gregorios Mar Stephanos Episcopa +First Holy Communion
DESCRIPTION:Dear All\,\n \nOn behalf of the Mar Thoma Church Brisbane\, we are pleased to announce the visit of Rt. Rev. Gregorios Mar Stephanos Episcopa. His Grace will lead in celebrating the Holy Communion Service on Sunday\, 5th March 2017. During the visit\, the First Holy Communicants Service will be held.\n \nNOTE: The members who are interested to arrange the First Holy Communion of their children (above the age of 12 yrs)\, are requested to contact the Vicar on or before Monday\, 6th February 2017\, so that classes can be arranged.\n                                                \nPlease schedule and partake accordingly.\n\n\n\nYours in Jesus Christ\,\n \nRojan Abraham
URL:https://www.brisbanemarthomachurch.org.au/event/visit-of-rt-rev-gregorios-mar-stephanos-episcopa-first-holy-communion/
END:VEVENT
END:VCALENDAR