BEGIN:VCALENDAR
VERSION:2.0
PRODID:-//Brisbane Mar Thoma Church - ECPv4.3.4.2//NONSGML v1.0//EN
CALSCALE:GREGORIAN
METHOD:PUBLISH
X-WR-CALNAME:Brisbane Mar Thoma Church
X-ORIGINAL-URL:https://www.brisbanemarthomachurch.org.au
X-WR-CALDESC:Events for Brisbane Mar Thoma Church
BEGIN:VEVENT
DTSTART;TZID=UTC+0:20190929T090000
DTEND;TZID=UTC+0:20190929T150000
DTSTAMP:20260423T154759
CREATED:20190917T234005Z
LAST-MODIFIED:20190917T234005Z
UID:8705-1569747600-1569769200@www.brisbanemarthomachurch.org.au
SUMMARY:VBS Picnic
DESCRIPTION:
URL:https://www.brisbanemarthomachurch.org.au/event/vbs-picnic/
END:VEVENT
END:VCALENDAR