BEGIN:VCALENDAR
VERSION:2.0
PRODID:-//Brisbane Mar Thoma Church - ECPv4.3.4.2//NONSGML v1.0//EN
CALSCALE:GREGORIAN
METHOD:PUBLISH
X-WR-CALNAME:Brisbane Mar Thoma Church
X-ORIGINAL-URL:https://www.brisbanemarthomachurch.org.au
X-WR-CALDESC:Events for Brisbane Mar Thoma Church
BEGIN:VEVENT
DTSTART;VALUE=DATE:20181007
DTEND;VALUE=DATE:20181007
DTSTAMP:20260423T155416
CREATED:20180224T055135Z
LAST-MODIFIED:20180224T055135Z
UID:8576-1538870400-1538956799@www.brisbanemarthomachurch.org.au
SUMMARY:Sunday School Final Exam
DESCRIPTION:Contact Sunday School for more details about timings.
URL:https://www.brisbanemarthomachurch.org.au/event/sunday-school-final-exam/
LOCATION:115 Cornwall St\, Annerley\, Australia
END:VEVENT
END:VCALENDAR