BEGIN:VCALENDAR
VERSION:2.0
PRODID:-//Brisbane Mar Thoma Church - ECPv4.3.4.2//NONSGML v1.0//EN
CALSCALE:GREGORIAN
METHOD:PUBLISH
X-WR-CALNAME:Brisbane Mar Thoma Church
X-ORIGINAL-URL:https://www.brisbanemarthomachurch.org.au
X-WR-CALDESC:Events for Brisbane Mar Thoma Church
BEGIN:VEVENT
DTSTART;TZID=UTC+0:20171105T100000
DTEND;TZID=UTC+0:20171105T120000
DTSTAMP:20260423T203223
CREATED:20171025T232932Z
LAST-MODIFIED:20171025T232932Z
UID:8505-1509876000-1509883200@www.brisbanemarthomachurch.org.au
SUMMARY:Sunday School Day
DESCRIPTION:\n \tSunday School Day:  Brisbane Mar Thoma Sunday School will be celebrating the Children’s Day this year on Sunday  5th November.  Please note Sunday school children will be assisting achen with the normal Sunday service on this day.\n
URL:https://www.brisbanemarthomachurch.org.au/event/sunday-school-day/
END:VEVENT
END:VCALENDAR