BEGIN:VCALENDAR
VERSION:2.0
PRODID:-//Brisbane Mar Thoma Church - ECPv4.3.4.2//NONSGML v1.0//EN
CALSCALE:GREGORIAN
METHOD:PUBLISH
X-WR-CALNAME:Brisbane Mar Thoma Church
X-ORIGINAL-URL:https://www.brisbanemarthomachurch.org.au
X-WR-CALDESC:Events for Brisbane Mar Thoma Church
BEGIN:VEVENT
DTSTART;TZID=UTC+0:20171118T090000
DTEND;TZID=UTC+0:20171118T133000
DTSTAMP:20260423T203320
CREATED:20171025T233155Z
LAST-MODIFIED:20171025T233155Z
UID:8507-1510995600-1511011800@www.brisbanemarthomachurch.org.au
SUMMARY:Sunday school anniversary
DESCRIPTION:Anniversary:  2017 Sunday school anniversary is scheduled to be held in November.  We also would like to invite all parents and children to this very important day in our calendar.   Your prayers and presence will be very much welcome by the Sunday school.  Awards/Certificates will be given to the winners of competition and SS exam on this day.  Please note lunch will be provided after the program.   Details are below\n\nDate and time:  Saturday 18th November from 9.00am to 1.30pm\nVenue:  St Paul's Anglican Church\,  554 Vulture Street East\, East Brisbane
URL:https://www.brisbanemarthomachurch.org.au/event/sunday-school-anniversary/
LOCATION:554 Vulture Street East\, East Brisbane\, QLD\, Australia
END:VEVENT
END:VCALENDAR