BEGIN:VCALENDAR
VERSION:2.0
PRODID:-//Brisbane Mar Thoma Church - ECPv4.3.4.2//NONSGML v1.0//EN
CALSCALE:GREGORIAN
METHOD:PUBLISH
X-WR-CALNAME:Brisbane Mar Thoma Church
X-ORIGINAL-URL:https://www.brisbanemarthomachurch.org.au
X-WR-CALDESC:Events for Brisbane Mar Thoma Church
BEGIN:VEVENT
DTSTART;TZID=UTC+0:20180121T100000
DTEND;TZID=UTC+0:20180121T114500
DTSTAMP:20260423T171143
CREATED:20180108T225633Z
LAST-MODIFIED:20180108T225633Z
UID:8556-1516528800-1516535100@www.brisbanemarthomachurch.org.au
SUMMARY:Students Dedication Service
DESCRIPTION:Hi All\nThe new academic year is starting by the end of this month. There will be a dedication service for the students and teachers during the Church service on 21 of January\, 2018. All students and teachers are invited to participate in this dedication service.\nYours in Christ\,\nJohn Dennis Alexander\nOfficiating Secretary - Brisbane Marthoma Church
URL:https://www.brisbanemarthomachurch.org.au/event/students-dedication-service/
END:VEVENT
END:VCALENDAR