BEGIN:VCALENDAR
VERSION:2.0
PRODID:-//Brisbane Mar Thoma Church - ECPv4.3.4.2//NONSGML v1.0//EN
CALSCALE:GREGORIAN
METHOD:PUBLISH
X-WR-CALNAME:Brisbane Mar Thoma Church
X-ORIGINAL-URL:https://www.brisbanemarthomachurch.org.au
X-WR-CALDESC:Events for Brisbane Mar Thoma Church
BEGIN:VEVENT
DTSTART;TZID=UTC+0:20250622T100000
DTEND;TZID=UTC+0:20250622T120000
DTSTAMP:20260423T233354
CREATED:20160527T153310Z
LAST-MODIFIED:20250524T232810Z
UID:7874-1750586400-1750593600@www.brisbanemarthomachurch.org.au
SUMMARY:Holy Communion Service (English)
DESCRIPTION:
URL:https://www.brisbanemarthomachurch.org.au/event/special-general-body/
LOCATION:115 Cornwall St\, Annerley\, Australia
END:VEVENT
END:VCALENDAR