BEGIN:VCALENDAR
VERSION:2.0
PRODID:-//Brisbane Mar Thoma Church - ECPv4.3.4.2//NONSGML v1.0//EN
CALSCALE:GREGORIAN
METHOD:PUBLISH
X-WR-CALNAME:Brisbane Mar Thoma Church
X-ORIGINAL-URL:https://www.brisbanemarthomachurch.org.au
X-WR-CALDESC:Events for Brisbane Mar Thoma Church
BEGIN:VEVENT
DTSTART;TZID=UTC+0:20170611T114500
DTEND;TZID=UTC+0:20170611T133000
DTSTAMP:20260423T171501
CREATED:20160606T100732Z
LAST-MODIFIED:20170524T035552Z
UID:7938-1497181500-1497187800@www.brisbanemarthomachurch.org.au
SUMMARY:Special General Body on Sunday\, 11th June 2017
DESCRIPTION:Dear Members\,\n \nA Special General Body Meeting will be held on Sunday\, 11th June 2017 after the Holy Communion Service at St. Philips Anglican Church\, 115 Cornwall St\, Annerley. \n \nAll members are requested to attend.\n\n \nAgenda:\n\n \tTo announce the final list of candidates and to take nominations from the floor\, if necessary \n \tTo elect/nominate (from the floor) the Auditors (Internal and External) for the year 2017-18\n \tAOB - (with the permission of the chair)\n\n \nYours in Jesus Christ\,\n \nRojan Abraham\n
URL:https://www.brisbanemarthomachurch.org.au/event/special-general-body-on-12-06-2016/
LOCATION:115 Cornwall St\, Annerley\, Australia
END:VEVENT
END:VCALENDAR