BEGIN:VCALENDAR
VERSION:2.0
PRODID:-//Brisbane Mar Thoma Church - ECPv4.3.4.2//NONSGML v1.0//EN
CALSCALE:GREGORIAN
METHOD:PUBLISH
X-WR-CALNAME:Brisbane Mar Thoma Church
X-ORIGINAL-URL:https://www.brisbanemarthomachurch.org.au
X-WR-CALDESC:Events for Brisbane Mar Thoma Church
BEGIN:VEVENT
DTSTART;TZID=UTC+0:20160703T120000
DTEND;TZID=UTC+0:20160703T123000
DTSTAMP:20260423T183537
CREATED:20160629T001308Z
LAST-MODIFIED:20160629T001308Z
UID:8014-1467547200-1467549000@www.brisbanemarthomachurch.org.au
SUMMARY:Sevika Sangham meeting on 3/7/16
DESCRIPTION:Our next meeting will be  at St Philips Anglican Church on 3/7/16 after church service\nAchan will be leading us in the bible study - Acts of apostles chapter 3 .\nInviting all of you to the meeting\n\nIf there are any prayer requests please let me know .\nThey can be included in our prayers.\n\nThis is the first meeting of next  working year for  the sangham .\nI am requesting your prayers for  a  year of meaningful  activities.\nPrayers  with Sindhu Rojan for her  loss and also her safe trip back.\n\n'Charm is deceitful and beauty is vain\, but a woman who fears the Lord is to be praised'\nProverbs 31:31
URL:https://www.brisbanemarthomachurch.org.au/event/sevika-sangham-meeting-on-3716/
LOCATION:115 Cornwall St\, Annerley\, Australia
END:VEVENT
END:VCALENDAR