BEGIN:VCALENDAR
VERSION:2.0
PRODID:-//Brisbane Mar Thoma Church - ECPv4.3.4.2//NONSGML v1.0//EN
CALSCALE:GREGORIAN
METHOD:PUBLISH
X-WR-CALNAME:Brisbane Mar Thoma Church
X-ORIGINAL-URL:https://www.brisbanemarthomachurch.org.au
X-WR-CALDESC:Events for Brisbane Mar Thoma Church
BEGIN:VEVENT
DTSTART;TZID=UTC+0:20170331T053000
DTEND;TZID=UTC+0:20170331T170000
DTSTAMP:20260423T203614
CREATED:20170330T215850Z
LAST-MODIFIED:20170330T215850Z
UID:8411-1490938200-1490979600@www.brisbanemarthomachurch.org.au
SUMMARY:Sevika Sangham Meeting - On 31st March 2017
DESCRIPTION:Sevika Sangham Meeting - On 31st March 2017 at 5.30  PM at the Parish Hall.
URL:https://www.brisbanemarthomachurch.org.au/event/sevika-sangham-meeting-on-31st-march-2017/
END:VEVENT
END:VCALENDAR