BEGIN:VCALENDAR
VERSION:2.0
PRODID:-//Brisbane Mar Thoma Church - ECPv4.3.4.2//NONSGML v1.0//EN
CALSCALE:GREGORIAN
METHOD:PUBLISH
X-WR-CALNAME:Brisbane Mar Thoma Church
X-ORIGINAL-URL:https://www.brisbanemarthomachurch.org.au
X-WR-CALDESC:Events for Brisbane Mar Thoma Church
BEGIN:VEVENT
DTSTART;TZID=UTC+0:20160828T120000
DTEND;TZID=UTC+0:20160828T130000
DTSTAMP:20260424T065337
CREATED:20160823T035337Z
LAST-MODIFIED:20160823T035337Z
UID:8300-1472385600-1472389200@www.brisbanemarthomachurch.org.au
SUMMARY:Sevika Sangham - Fasting Prayer on 28th August 2016
DESCRIPTION:Dear all\,\n \nOn behalf of Vicar and the Sevika Sangham Secretary\, Mrs. Renu John\, I would like to inform you all that Sevika Sangham is organising a Fasting Prayer next week\, 28th August 2016\, after the Holy Communion Service. If anyone has any prayer requests\, please forward them to Vicar and Secretary.\n \n \nKind Regards\,\n \nRojan Abraham
URL:https://www.brisbanemarthomachurch.org.au/event/sevika-sangham-fasting-prayer-on-28th-august-2016/
LOCATION:115 Cornwall St\, Annerley\, Australia
END:VEVENT
END:VCALENDAR