BEGIN:VCALENDAR
VERSION:2.0
PRODID:-//Brisbane Mar Thoma Church - ECPv4.3.4.2//NONSGML v1.0//EN
CALSCALE:GREGORIAN
METHOD:PUBLISH
X-WR-CALNAME:Brisbane Mar Thoma Church
X-ORIGINAL-URL:https://www.brisbanemarthomachurch.org.au
X-WR-CALDESC:Events for Brisbane Mar Thoma Church
BEGIN:VEVENT
DTSTART;TZID=UTC+0:20160911T093000
DTEND;TZID=UTC+0:20160911T120000
DTSTAMP:20260424T013634
CREATED:20160909T034515Z
LAST-MODIFIED:20160909T034515Z
UID:8312-1473586200-1473595200@www.brisbanemarthomachurch.org.au
SUMMARY:Sevika Sangham Day
DESCRIPTION:Sevika Sangham Day
URL:https://www.brisbanemarthomachurch.org.au/event/sevika-sangham-day/
LOCATION:115 Cornwall St\, Annerley\, Australia
END:VEVENT
END:VCALENDAR