BEGIN:VCALENDAR
VERSION:2.0
PRODID:-//Brisbane Mar Thoma Church - ECPv4.3.4.2//NONSGML v1.0//EN
CALSCALE:GREGORIAN
METHOD:PUBLISH
X-WR-CALNAME:Brisbane Mar Thoma Church
X-ORIGINAL-URL:https://www.brisbanemarthomachurch.org.au
X-WR-CALDESC:Events for Brisbane Mar Thoma Church
BEGIN:VEVENT
DTSTART;TZID=UTC+0:20190922T100000
DTEND;TZID=UTC+0:20190922T120000
DTSTAMP:20260423T155155
CREATED:20190917T233646Z
LAST-MODIFIED:20190917T233646Z
UID:8699-1569146400-1569153600@www.brisbanemarthomachurch.org.au
SUMMARY:Senior Citizen's Day - 22nd September 2019
DESCRIPTION:\n\n\n\n\n\nI hereby inform you that this coming Sunday\, 22nd September 2019 is set apart and are celebrating as "Senior Citizen's Day". During the Holy Communion service\, a Special Prayer will be held for the Senior Citizens of the Church. \n\nAll members are requested to attend\, and I specially request all the Senior Citizens to take part in the Holy Communion Service as well.\n\nYours in Christ\,\n\n\n\n\n\n\n\n\n\nRojan Abraham\n\nSecretary - Brisbane Marthoma Church\n\n\n\n\n\n\n\n\n\n\n\n\n\n\n\n\n\n\n\n
URL:https://www.brisbanemarthomachurch.org.au/event/senior-citizens-day-22nd-september-2019/
LOCATION:115 Cornwall St\, Annerley\, Australia
END:VEVENT
END:VCALENDAR