BEGIN:VCALENDAR
VERSION:2.0
PRODID:-//Brisbane Mar Thoma Church - ECPv4.3.4.2//NONSGML v1.0//EN
CALSCALE:GREGORIAN
METHOD:PUBLISH
X-WR-CALNAME:Brisbane Mar Thoma Church
X-ORIGINAL-URL:https://www.brisbanemarthomachurch.org.au
X-WR-CALDESC:Events for Brisbane Mar Thoma Church
BEGIN:VEVENT
DTSTART;TZID=UTC+0:20190415T190000
DTEND;TZID=UTC+0:20190417T200000
DTSTAMP:20260423T171637
CREATED:20170403T052311Z
LAST-MODIFIED:20181025T044550Z
UID:8422-1555354800-1555531200@www.brisbanemarthomachurch.org.au
SUMMARY:Sandhya Namaskaram Monday (15th Apr) to Wednesday (17th Apr)
DESCRIPTION:Monday to Wednesday: Sandhya Namaskaram\nTime: 7.00 PM - 8.30 PM\nVenue: St. Philip's Anglican Church
URL:https://www.brisbanemarthomachurch.org.au/event/sandhya-namaskaram-monday-10th-april-to-wednesday-12th-april/
LOCATION:115 Cornwall St\, Annerley\, Australia
END:VEVENT
END:VCALENDAR