BEGIN:VCALENDAR
VERSION:2.0
PRODID:-//Brisbane Mar Thoma Church - ECPv4.3.4.2//NONSGML v1.0//EN
CALSCALE:GREGORIAN
METHOD:PUBLISH
X-WR-CALNAME:Brisbane Mar Thoma Church
X-ORIGINAL-URL:https://www.brisbanemarthomachurch.org.au
X-WR-CALDESC:Events for Brisbane Mar Thoma Church
BEGIN:VEVENT
DTSTART;TZID=UTC+0:20260509T183000
DTEND;TZID=UTC+0:20260509T203000
DTSTAMP:20260423T143049
CREATED:20260422T124613Z
LAST-MODIFIED:20260422T124620Z
UID:9200-1778351400-1778358600@www.brisbanemarthomachurch.org.au
SUMMARY:Sadhu Kochukunju Upadeshi Musical Night
DESCRIPTION:I will sing of the steadfast love of the Lord\, forever; with my mouth I will make known Your faithfulness to all generations.”\n~ Psalm 89:1\n\nGreetings to all in the name of our Lord Jesus Christ.\n\nYou are warmly invited to a special evening of worship presented by the Choir of the Mar Thoma Church\, Brisbane.\n\nTheme: Sadhu Kochukunju Upadeshi Musical Night\nDate: 9th May 2026 (Saturday)\nTime: 6:30pm- 8:30pm\nVenue: St.Philips Anglican Church \,115 Cornwall St\, Annerley.\n\nJoin us for a heartfelt evening of song and worship\, honouring the timeless hymns of Sadhu Kochukunju Upadeshi.\n\nAs we prepare for this blessed evening\, Sub-Organization Coordinators and Area Prayer Representatives will be in touch with you to facilitate group participation within your respective sub-organizations and prayer groups.\n\nFor more information\, please contact Rev. Manoj Yuhan (Vicar)\, Sam C Abraham (Choir Master)\, or Andriea Abraham (Choir Secretary)\nWe look forward to sharing this blessed evening of worship and praise together.
URL:https://www.brisbanemarthomachurch.org.au/event/sadhu-kochukunju-upadeshi-musical-night-9th-may-2026/
LOCATION:115 Cornwall St\, Annerley\, Australia
END:VEVENT
END:VCALENDAR