BEGIN:VCALENDAR
VERSION:2.0
PRODID:-//Brisbane Mar Thoma Church - ECPv4.3.4.2//NONSGML v1.0//EN
CALSCALE:GREGORIAN
METHOD:PUBLISH
X-WR-CALNAME:Brisbane Mar Thoma Church
X-ORIGINAL-URL:https://www.brisbanemarthomachurch.org.au
X-WR-CALDESC:Events for Brisbane Mar Thoma Church
BEGIN:VEVENT
DTSTART;TZID=UTC+0:20161008T190000
DTEND;TZID=UTC+0:20161008T203000
DTSTAMP:20260424T051303
CREATED:20160824T225314Z
LAST-MODIFIED:20161006T231506Z
UID:8302-1475953200-1475958600@www.brisbanemarthomachurch.org.au
SUMMARY:Prayer Night (combined with all prayer groups)
DESCRIPTION:Dear All\,\n\nThe Edavaka Mission is conducting a Prayer Night (combined with all prayer groups) on Saturday\, 8th October 2016 at 7.00 PM at the St. Philip's Anglican Church.\n \nThis will be an ideal opportunity for Fellowship\, Intercessory Prayer\, and Bible Study. Dinner will be provided for all attendees after the prayer meeting.\n \nAll are requested to partake in this meeting.\n\n\nKind Regards\,\n\nRojan Abraham\nSecretary
URL:https://www.brisbanemarthomachurch.org.au/event/prayer-night-combined-with-all-prayer-groups/
LOCATION:115 Cornwall St\, Annerley\, Australia
END:VEVENT
END:VCALENDAR