BEGIN:VCALENDAR
VERSION:2.0
PRODID:-//Brisbane Mar Thoma Church - ECPv4.3.4.2//NONSGML v1.0//EN
CALSCALE:GREGORIAN
METHOD:PUBLISH
X-WR-CALNAME:Brisbane Mar Thoma Church
X-ORIGINAL-URL:https://www.brisbanemarthomachurch.org.au
X-WR-CALDESC:Events for Brisbane Mar Thoma Church
BEGIN:VEVENT
DTSTART;TZID=UTC+0:20160605T101500
DTEND;TZID=UTC+0:20160605T103000
DTSTAMP:20260423T204245
CREATED:20160531T021046Z
LAST-MODIFIED:20160531T021046Z
UID:7901-1465121700-1465122600@www.brisbanemarthomachurch.org.au
SUMMARY:One Day Income Collection for the year 2015-16
DESCRIPTION:Dear All\n\nThe one-day income collection for the year 2015-16 will be accepted on Sunday\, 05-June-2016\, in the midst of the Holy Communion Service. All the earning members are encouraged to come forward to place the offering on the platter\, and a special prayer will be done during the occasion.\n\n \n\nPlease give your offerings in an envelope with the following details written on the face of the cover.\n\n \tName\n \tAddress (if possible)\n \tRoll No (if possible)\n\n \n\nAdditional envelopes will be arranged\, and the same can be found at the back of the church\, near the baptismal font.\n\nRegards\n\nCyril George Joseph\n\nSecretary
URL:https://www.brisbanemarthomachurch.org.au/event/one-day-income-collection-for-the-year-2015-16/
LOCATION:115 Cornwall St\, Annerley\, Australia
END:VEVENT
END:VCALENDAR