BEGIN:VCALENDAR
VERSION:2.0
PRODID:-//Brisbane Mar Thoma Church - ECPv4.3.4.2//NONSGML v1.0//EN
CALSCALE:GREGORIAN
METHOD:PUBLISH
X-WR-CALNAME:Brisbane Mar Thoma Church
X-ORIGINAL-URL:https://www.brisbanemarthomachurch.org.au
X-WR-CALDESC:Events for Brisbane Mar Thoma Church
BEGIN:VEVENT
DTSTART;TZID=UTC+0:20260329T094500
DTEND;TZID=UTC+0:20260329T120000
DTSTAMP:20260423T171455
CREATED:20161004T002910Z
LAST-MODIFIED:20260207T101117Z
UID:8325-1774777500-1774785600@www.brisbanemarthomachurch.org.au
SUMMARY:Hossana - Palm Sunday Holy Communion
DESCRIPTION:
URL:https://www.brisbanemarthomachurch.org.au/event/metropolitans-visit-parish-day-2016/
LOCATION:115 Cornwall St\, Annerley\, Australia
END:VEVENT
END:VCALENDAR