BEGIN:VCALENDAR
VERSION:2.0
PRODID:-//Brisbane Mar Thoma Church - ECPv4.3.4.2//NONSGML v1.0//EN
CALSCALE:GREGORIAN
METHOD:PUBLISH
X-WR-CALNAME:Brisbane Mar Thoma Church
X-ORIGINAL-URL:https://www.brisbanemarthomachurch.org.au
X-WR-CALDESC:Events for Brisbane Mar Thoma Church
BEGIN:VEVENT
DTSTART;TZID=UTC+0:20260402T190000
DTEND;TZID=UTC+0:20260402T210000
DTSTAMP:20260423T171335
CREATED:20170403T051955Z
LAST-MODIFIED:20260207T101208Z
UID:8419-1775156400-1775163600@www.brisbanemarthomachurch.org.au
SUMMARY:Maundy Thursday Holy Communion Service
DESCRIPTION:
URL:https://www.brisbanemarthomachurch.org.au/event/maundy-thursday-holy-communion-service/
LOCATION:115 Cornwall St\, Annerley\, Australia
END:VEVENT
END:VCALENDAR