BEGIN:VCALENDAR
VERSION:2.0
PRODID:-//Brisbane Mar Thoma Church - ECPv4.3.4.2//NONSGML v1.0//EN
CALSCALE:GREGORIAN
METHOD:PUBLISH
X-WR-CALNAME:Brisbane Mar Thoma Church
X-ORIGINAL-URL:https://www.brisbanemarthomachurch.org.au
X-WR-CALDESC:Events for Brisbane Mar Thoma Church
BEGIN:VEVENT
DTSTART;TZID=UTC+0:20250601T100000
DTEND;TZID=UTC+0:20250601T120000
DTSTAMP:20260423T221853
CREATED:20241001T090013Z
LAST-MODIFIED:20250524T232739Z
UID:8431-1748772000-1748779200@www.brisbanemarthomachurch.org.au
SUMMARY:Holy Communion Service (Malayalam)
DESCRIPTION:
URL:https://www.brisbanemarthomachurch.org.au/event/holy-communion-service-english/
LOCATION:115 Cornwall St\, Annerley\, Australia
END:VEVENT
END:VCALENDAR