BEGIN:VCALENDAR
VERSION:2.0
PRODID:-//Brisbane Mar Thoma Church - ECPv4.3.4.2//NONSGML v1.0//EN
CALSCALE:GREGORIAN
METHOD:PUBLISH
X-WR-CALNAME:Brisbane Mar Thoma Church
X-ORIGINAL-URL:https://www.brisbanemarthomachurch.org.au
X-WR-CALDESC:Events for Brisbane Mar Thoma Church
BEGIN:VEVENT
DTSTART;TZID=UTC+0:20160528T191500
DTEND;TZID=UTC+0:20160528T203000
DTSTAMP:20260423T235110
CREATED:20160527T153100Z
LAST-MODIFIED:20160527T153100Z
UID:7871-1464462900-1464467400@www.brisbanemarthomachurch.org.au
SUMMARY:Edavaka Mission Prayer
DESCRIPTION:Dear All\n\nThe details of the upcoming meeting of Edavaka Mission are given below. \n\nDate : 28th May 2016.(Saturday)\n\nTime : 7:15 PM\n\nVenue : The Hall of St Philip's Anglican Church.\n\nRev.Vinod P Job will be attending the meeting. Please note that the new representative of the Edavaka Mission for the year 2016-17 will be elected on the occasion.\n\nRegards\n\nCyril George Joseph
URL:https://www.brisbanemarthomachurch.org.au/event/edavaka-mission-prayer/
LOCATION:115 Cornwall St\, Annerley\, Australia
END:VEVENT
END:VCALENDAR