BEGIN:VCALENDAR
VERSION:2.0
PRODID:-//Brisbane Mar Thoma Church - ECPv4.3.4.2//NONSGML v1.0//EN
CALSCALE:GREGORIAN
METHOD:PUBLISH
X-WR-CALNAME:Brisbane Mar Thoma Church
X-ORIGINAL-URL:https://www.brisbanemarthomachurch.org.au
X-WR-CALDESC:Events for Brisbane Mar Thoma Church
BEGIN:VEVENT
DTSTART;TZID=UTC+0:20171121T183000
DTEND;TZID=UTC+0:20171121T193000
DTSTAMP:20260423T204417
CREATED:20171120T225258Z
LAST-MODIFIED:20171120T225258Z
UID:8537-1511289000-1511292600@www.brisbanemarthomachurch.org.au
SUMMARY:Edavaka Mission Prayer - Address: ​78\,Rockfield Road\,Doolandella
DESCRIPTION:Dear All\,\n\nDear All\,\n\nEdavaka Mission is conducting a special prayer meeting on account of the sad demise of Mr. ​P.T George​ (Aged 7​5​)\, father of M​r.Thomas George​.\n\nDetails of the prayer meeting are as follows:\n\nTime & Date: 6:​30​ P.M\, ​Tuesday​\, 2​1st​ ​November​ 2017\nAddress: ​78\,Rockfield Road\,Doolandella\,​\nContact: Mr. ​Thomas George Mob:0423229710​\n\nFor any further information\, you may also contact either Achen (Mob: 0434218124) or Manu (Mob: 0410737871).\n\nAll are requested to kindly attend the prayer meeting and share in the family's grief during this time of bereavement.\n\nThank you.\n\nKind regards​\,\nEdavaka Mission Secretary.\n\non account of the sad demise of Mr. ​P.T George​ (Aged 7​5​)\, father of M​r.Thomas George​.\n\nDetails of the prayer meeting are as follows:\n\nTime & Date: 6:​30​ P.M\, ​Tuesday​\, 2​1st​ ​November​ 2017\nAddress: ​78\,Rockfield Road\,Doolandella\,​\nContact: Mr. ​Thomas George Mob:0423229710​\n\nFor any further information\, you may also contact either Achen (Mob: 0434218124) or Manu (Mob: 0410737871).\n\nAll are requested to kindly attend the prayer meeting and share in the family's grief during this time of bereavement.\n\nThank you.\n\nKind regards​\,\nEdavaka Mission Secretary.
URL:https://www.brisbanemarthomachurch.org.au/event/edavaka-mission-prayer-address-%e2%80%8b78rockfield-roaddoolandella/
END:VEVENT
END:VCALENDAR