BEGIN:VCALENDAR
VERSION:2.0
PRODID:-//Brisbane Mar Thoma Church - ECPv4.3.4.2//NONSGML v1.0//EN
CALSCALE:GREGORIAN
METHOD:PUBLISH
X-WR-CALNAME:Brisbane Mar Thoma Church
X-ORIGINAL-URL:https://www.brisbanemarthomachurch.org.au
X-WR-CALDESC:Events for Brisbane Mar Thoma Church
BEGIN:VEVENT
DTSTART;VALUE=DATE:20251031
DTEND;VALUE=DATE:20251031
DTSTAMP:20260423T233516
CREATED:20250927T020743Z
LAST-MODIFIED:20250927T020743Z
UID:9148-1761868800-1761955199@www.brisbanemarthomachurch.org.au
SUMMARY:Edavaka Mission Prayer
DESCRIPTION:
URL:https://www.brisbanemarthomachurch.org.au/event/edavaka-mission-prayer-2/
END:VEVENT
END:VCALENDAR