BEGIN:VCALENDAR
VERSION:2.0
PRODID:-//Brisbane Mar Thoma Church - ECPv4.3.4.2//NONSGML v1.0//EN
CALSCALE:GREGORIAN
METHOD:PUBLISH
X-WR-CALNAME:Brisbane Mar Thoma Church
X-ORIGINAL-URL:https://www.brisbanemarthomachurch.org.au
X-WR-CALDESC:Events for Brisbane Mar Thoma Church
BEGIN:VEVENT
DTSTART;VALUE=DATE:20251102
DTEND;VALUE=DATE:20251102
DTSTAMP:20260423T233715
CREATED:20250927T020854Z
LAST-MODIFIED:20250927T020854Z
UID:9152-1762041600-1762127999@www.brisbanemarthomachurch.org.au
SUMMARY:Door to Door Carol RoundS ( Day 2)
DESCRIPTION:
URL:https://www.brisbanemarthomachurch.org.au/event/door-to-door-carol-rounds-day-2/
END:VEVENT
END:VCALENDAR