BEGIN:VCALENDAR
VERSION:2.0
PRODID:-//Brisbane Mar Thoma Church - ECPv4.3.4.2//NONSGML v1.0//EN
CALSCALE:GREGORIAN
METHOD:PUBLISH
X-WR-CALNAME:Brisbane Mar Thoma Church
X-ORIGINAL-URL:https://www.brisbanemarthomachurch.org.au
X-WR-CALDESC:Events for Brisbane Mar Thoma Church
BEGIN:VEVENT
DTSTART;TZID=UTC+0:20170115T094500
DTEND;TZID=UTC+0:20170115T110000
DTSTAMP:20260423T203120
CREATED:20170112T050008Z
LAST-MODIFIED:20170112T050008Z
UID:8378-1484473500-1484478000@www.brisbanemarthomachurch.org.au
SUMMARY:Divine Service
DESCRIPTION:
URL:https://www.brisbanemarthomachurch.org.au/event/divine-service/
LOCATION:115 Cornwall St\, Annerley\, Australia
END:VEVENT
END:VCALENDAR