BEGIN:VCALENDAR
VERSION:2.0
PRODID:-//Brisbane Mar Thoma Church - ECPv4.3.4.2//NONSGML v1.0//EN
CALSCALE:GREGORIAN
METHOD:PUBLISH
X-WR-CALNAME:Brisbane Mar Thoma Church
X-ORIGINAL-URL:https://www.brisbanemarthomachurch.org.au
X-WR-CALDESC:Events for Brisbane Mar Thoma Church
BEGIN:VEVENT
DTSTART;TZID=UTC+0:20180217T190000
DTEND;TZID=UTC+0:20180217T204500
DTSTAMP:20260423T235628
CREATED:20170130T215552Z
LAST-MODIFIED:20180131T040545Z
UID:8393-1518894000-1518900300@www.brisbanemarthomachurch.org.au
SUMMARY:Convention Day 2
DESCRIPTION:This is to inform all of you about our Parish Convention for 2018 that will be held from 16-18 February 2018.\n\nRev. C.A.Benjamin (Executive Director of FEBA radio\, Bangalore) will be our main speaker for the convention.\n\nThe Convention concludes on Sunday (18 February)\, with the Holy Communion Service .\n\nOffertory will be collected on all these days.\n\n\nThe details are as follows:\n\nDate    : 16 February 2018\nVenue : St. Philips Anglican Church (115\, Cornwall St\, Annerley\, Brisbane)\nTime    : 7.00 PM - 8.45 PM\n\nDate    : 17 February 2018\nVenue : St. Philips Anglican Church (115\, Cornwall St\, Annerley\, Brisbane)\nTime    : 7.00 PM - 8.45 PM\n\nDate   : 18 February 2018  (Holy Communion Service ) \nVenue : St. Philips Anglican Church (115\, Cornwall St\, Annerley\, Brisbane)\nTime   : 9.45 AM - 12.45 PM\n Kindly prayerfully attend all meetings and be blessed.\n \n\nYours in Christ\,\n\nJolly Suresh Mathew\n\nSecretary - Brisbane Marthoma Church
URL:https://www.brisbanemarthomachurch.org.au/event/convention-day-2/
LOCATION:115 Cornwall St\, Annerley\, Australia
END:VEVENT
END:VCALENDAR