BEGIN:VCALENDAR
VERSION:2.0
PRODID:-//Brisbane Mar Thoma Church - ECPv4.3.4.2//NONSGML v1.0//EN
CALSCALE:GREGORIAN
METHOD:PUBLISH
X-WR-CALNAME:Brisbane Mar Thoma Church
X-ORIGINAL-URL:https://www.brisbanemarthomachurch.org.au
X-WR-CALDESC:Events for Brisbane Mar Thoma Church
BEGIN:VEVENT
DTSTART;TZID=UTC+0:20181124T180000
DTEND;TZID=UTC+0:20181124T200000
DTSTAMP:20260424T010836
CREATED:20171114T005720Z
LAST-MODIFIED:20181025T043647Z
UID:8526-1543082400-1543089600@www.brisbanemarthomachurch.org.au
SUMMARY:Combined Christmas Carol service
DESCRIPTION:
URL:https://www.brisbanemarthomachurch.org.au/event/christmas-carol-service/
LOCATION:115 Cornwall St\, Annerley\, Australia
END:VEVENT
END:VCALENDAR