BEGIN:VCALENDAR
VERSION:2.0
PRODID:-//Brisbane Mar Thoma Church - ECPv4.3.4.2//NONSGML v1.0//EN
CALSCALE:GREGORIAN
METHOD:PUBLISH
X-WR-CALNAME:Brisbane Mar Thoma Church
X-ORIGINAL-URL:https://www.brisbanemarthomachurch.org.au
X-WR-CALDESC:Events for Brisbane Mar Thoma Church
BEGIN:VEVENT
DTSTART;VALUE=DATE:20251122
DTEND;VALUE=DATE:20251122
DTSTAMP:20260423T215122
CREATED:20250927T020954Z
LAST-MODIFIED:20250927T020954Z
UID:9159-1763769600-1763855999@www.brisbanemarthomachurch.org.au
SUMMARY:Christmas Carol service
DESCRIPTION:
URL:https://www.brisbanemarthomachurch.org.au/event/christmas-carol-service-3/
END:VEVENT
END:VCALENDAR