BEGIN:VCALENDAR
VERSION:2.0
PRODID:-//Brisbane Mar Thoma Church - ECPv4.3.4.2//NONSGML v1.0//EN
CALSCALE:GREGORIAN
METHOD:PUBLISH
X-WR-CALNAME:Brisbane Mar Thoma Church
X-ORIGINAL-URL:https://www.brisbanemarthomachurch.org.au
X-WR-CALDESC:Events for Brisbane Mar Thoma Church
BEGIN:VEVENT
DTSTART;TZID=UTC+10:20241130T173000
DTEND;TZID=UTC+10:20241130T203000
DTSTAMP:20260423T221751
CREATED:20160919T040108Z
LAST-MODIFIED:20241013T012833Z
UID:8319-1732987800-1732998600@www.brisbanemarthomachurch.org.au
SUMMARY:Christmas Carol Service
DESCRIPTION:We are delighted to extend this heartfelt invitation to you\, your family and your loved ones for our upcoming Christmas Carol Service\, themed "Gloria to the New Noel (Puthupiravi)"\, beautifully led by the Brisbane Mar Thoma Church Choir (Flyer attached). The Chief Guest Speaker for our Service will be Bishop John Roundhill. The following are the details:\n\n \tDate: Saturday\, 30th November 2024\n \tTime: 5:30 PM\n \tVenue: Salvation Army (Carindale) - 202 Gallipoli Rd\, Carina QLD 4152\n\nImmerse yourself in the warmth of the Christmas season through an evening filled with inspiring carols and music that celebrate the birth of our Savior. Let’s gather together in unity and rejoice in the true meaning of Christmas\, sharing love\, hope\, and joy. We look forward to your presence as we celebrate this special time together!\n\nFor any questions\, please contact Rev Ison Joshua\, Rojan Abraham\, Alan Rojan (Choir Master)\, or Sharlyn Sabu (Choir Secretary).
URL:https://www.brisbanemarthomachurch.org.au/event/christmas-carol-service-2/
LOCATION:202 Gallipoli Rd\, Carina\, QLD\, 4152\, Australia
END:VEVENT
END:VCALENDAR