BEGIN:VCALENDAR
VERSION:2.0
PRODID:-//Brisbane Mar Thoma Church - ECPv4.3.4.2//NONSGML v1.0//EN
CALSCALE:GREGORIAN
METHOD:PUBLISH
X-WR-CALNAME:Brisbane Mar Thoma Church
X-ORIGINAL-URL:https://www.brisbanemarthomachurch.org.au
X-WR-CALDESC:Events for Brisbane Mar Thoma Church
BEGIN:VEVENT
DTSTART;TZID=UTC+0:20241116T080000
DTEND;TZID=UTC+0:20241116T170000
DTSTAMP:20260423T171757
CREATED:20191010T232048Z
LAST-MODIFIED:20241015T123717Z
UID:8711-1731744000-1731776400@www.brisbanemarthomachurch.org.au
SUMMARY:Door-to-door Carolling Day 3
DESCRIPTION:
URL:https://www.brisbanemarthomachurch.org.au/event/christmas-carol-rounds-2019-door-to-door-carolling/
END:VEVENT
END:VCALENDAR