BEGIN:VCALENDAR
VERSION:2.0
PRODID:-//Brisbane Mar Thoma Church - ECPv4.3.4.2//NONSGML v1.0//EN
CALSCALE:GREGORIAN
METHOD:PUBLISH
X-WR-CALNAME:Brisbane Mar Thoma Church
X-ORIGINAL-URL:https://www.brisbanemarthomachurch.org.au
X-WR-CALDESC:Events for Brisbane Mar Thoma Church
BEGIN:VEVENT
DTSTART;TZID=UTC+0:20250615T100000
DTEND;TZID=UTC+0:20250615T120000
DTSTAMP:20260423T185831
CREATED:20191010T232117Z
LAST-MODIFIED:20250524T232753Z
UID:8712-1749981600-1749988800@www.brisbanemarthomachurch.org.au
SUMMARY:Holy Communion Service (Malayalam)
DESCRIPTION:
URL:https://www.brisbanemarthomachurch.org.au/event/christmas-carol-rounds-2019-door-to-door-carolling-2/
LOCATION:115 Cornwall St\, Annerley\, Australia
END:VEVENT
END:VCALENDAR