BEGIN:VCALENDAR
VERSION:2.0
PRODID:-//Brisbane Mar Thoma Church - ECPv4.3.4.2//NONSGML v1.0//EN
CALSCALE:GREGORIAN
METHOD:PUBLISH
X-WR-CALNAME:Brisbane Mar Thoma Church
X-ORIGINAL-URL:https://www.brisbanemarthomachurch.org.au
X-WR-CALDESC:Events for Brisbane Mar Thoma Church
BEGIN:VEVENT
DTSTART;TZID=UTC+0:20181207T080000
DTEND;TZID=UTC+0:20181208T170000
DTSTAMP:20260423T233817
CREATED:20171114T005753Z
LAST-MODIFIED:20181025T044740Z
UID:8524-1544169600-1544288400@www.brisbanemarthomachurch.org.au
SUMMARY:Carol Rounds  Scheduled for 7\,8\,14 and 15
DESCRIPTION:Carol Rounds Scheduled for 7\,8\,14 and 15 December
URL:https://www.brisbanemarthomachurch.org.au/event/carol-rounds-scheduled-for-1516-and-17-december-choir-representatives-will-be-contacting-you-for-the-timing/
END:VEVENT
END:VCALENDAR