BEGIN:VCALENDAR
VERSION:2.0
PRODID:-//Brisbane Mar Thoma Church - ECPv4.3.4.2//NONSGML v1.0//EN
CALSCALE:GREGORIAN
METHOD:PUBLISH
X-WR-CALNAME:Brisbane Mar Thoma Church
X-ORIGINAL-URL:https://www.brisbanemarthomachurch.org.au
X-WR-CALDESC:Events for Brisbane Mar Thoma Church
BEGIN:VEVENT
DTSTART;TZID=UTC+0:20180609T090000
DTEND;TZID=UTC+0:20180609T140000
DTSTAMP:20260423T203701
CREATED:20180607T123212Z
LAST-MODIFIED:20180607T124321Z
UID:8614-1528534800-1528552800@www.brisbanemarthomachurch.org.au
SUMMARY:Brisbane Marthoma Church Sevika Sanghom - TALENT DAY
DESCRIPTION:Brisbane Marthoma Church Sevika Sanghom - TALENT DAY\n\n\n\n\n1st Peter 4:10 - ‘Each of you should use whatever gift you have received to serve others\, as faithful stewards of God’s grace in its various forms.’ \nBrisbane Marthoma Church Sevika Sanghom is organising a talent day on Saturday June 9th\, 2018. We would like to invite all female members of the parish aged above 18 years join us in presenting their skills and talents.\n\n\n\nEntries are invited in the following categories:\n\n\n \tSolo singing event (Malayalam)\n \tSolo singing event (English)\n \tElocution contest (Malayalam)\n \tElocution contest (English)\n \tPoetry writing contest (Malayalam)\n \tPoetry writing contest (English)\n \tBible reading competition (English)\n \tPhotography competition\n\n\n\nOur awesome God created everyone with unique abilities\, talents and gifts. They may be great or small in your eyes\, but they matter to God. Get involved and let’s glorify God with our talents so you will inspire and encourage others to live God’s way.\nYours in Christ\,\nCoordinators\,\nTalent Day - 2018\n\n\nFor further information please contact :\nBibi Thomas (Sevika Sanghom Secretary)\nNeithu Koruth (Coordinator)\n\n\n
URL:https://www.brisbanemarthomachurch.org.au/event/brisbane-marthoma-church-sevika-sanghom-talent-day/
LOCATION:115 Cornwall St\, Annerley\, Australia
END:VEVENT
END:VCALENDAR