BEGIN:VCALENDAR
VERSION:2.0
PRODID:-//Brisbane Mar Thoma Church - ECPv4.3.4.2//NONSGML v1.0//EN
CALSCALE:GREGORIAN
METHOD:PUBLISH
X-WR-CALNAME:Brisbane Mar Thoma Church
X-ORIGINAL-URL:https://www.brisbanemarthomachurch.org.au
X-WR-CALDESC:Events for Brisbane Mar Thoma Church
BEGIN:VEVENT
DTSTART;TZID=UTC+0:20180617T120000
DTEND;TZID=UTC+0:20180617T140000
DTSTAMP:20260423T220141
CREATED:20180607T123325Z
LAST-MODIFIED:20180607T123325Z
UID:8615-1529236800-1529244000@www.brisbanemarthomachurch.org.au
SUMMARY:Brisbane Marthoma Church Sevika Sanghom - ANNIVERSARY
DESCRIPTION:Brisbane Marthoma Church Sevika Sanghom - ANNIVERSARY \n \n\n\nGreetings to all in the name of Jesus Christ\n\n\n\n\n\n"UNITED IN GOD'S LOVE - Ephesians 4:3 "\n \n\nIt is our great joy and privilege to invite you all to the  Sevika Sangham Anniversary function on Sunday\, 17th June\, 2018 immediately after the church service.\n\nThe event is being organized by the Brisbane Marthoma Church Sevika Sangham members to celebrate the functioning of Sevika Sangham as a women's wing for the Brisbane Marthoma church. This is the first time we are celebrating the day as an annual function. This will also be a chance for us to look back and pay respect to our senior women members of the BMTC who were involved in setting up the parish.\n\n\nOur Vicar Rev K A Thomas will preside over the function. The highlights of the event include presentation of the Annual report for 2017-2018\, programs by some of our very talented sevinis and prize distribution to all the Talent day winners\n\nLunch will be also provided after the service\n\nWe humbly request your prayerful presence in making the event a blessing for all.\n\n\n\n\nWith Prayers\n\nBibi Thomas - Sevika Sangham Secretary\nMilini Koshy and Teeny Chacko - Program Coordinators\n\n\n
URL:https://www.brisbanemarthomachurch.org.au/event/brisbane-marthoma-church-sevika-sanghom-anniversary/
END:VEVENT
END:VCALENDAR